BEGIN:VCALENDAR
VERSION:2.0
PRODID:-//Feel &amp; Taste - ECPv6.6.1//NONSGML v1.0//EN
CALSCALE:GREGORIAN
METHOD:PUBLISH
X-ORIGINAL-URL:https://feel-and-taste.de
X-WR-CALDESC:Veranstaltungen für Feel &amp; Taste
REFRESH-INTERVAL;VALUE=DURATION:PT1H
X-Robots-Tag:noindex
X-PUBLISHED-TTL:PT1H
BEGIN:VTIMEZONE
TZID:Europe/Berlin
BEGIN:DAYLIGHT
TZOFFSETFROM:+0100
TZOFFSETTO:+0200
TZNAME:CEST
DTSTART:20240331T010000
END:DAYLIGHT
BEGIN:STANDARD
TZOFFSETFROM:+0200
TZOFFSETTO:+0100
TZNAME:CET
DTSTART:20241027T010000
END:STANDARD
END:VTIMEZONE
BEGIN:VEVENT
DTSTART;TZID=Europe/Berlin:20240809T183000
DTEND;TZID=Europe/Berlin:20240809T220000
DTSTAMP:20260419T231435
CREATED:20240627T125838Z
LAST-MODIFIED:20240805T211400Z
UID:10000004-1723228200-1723240800@feel-and-taste.de
SUMMARY:Back in Black
DESCRIPTION:Dinner Night:\n“BACK IN BLACK”.\n\nZUSAMMEN MIT KOCH CLAYTON SIEGLE & CHRISTIAN BULANDER \nErleben Sie einen unvergesslichen Abend in angenehmer Gesellschaft. Unsere Küchenkünstler zaubern Kunstwerke auf Ihrem Teller\, verbinden hochwertige Zutaten zu meisterhaften Kompositionen. Jeder Bissen wird zur raffinierten Geschmacksexplosion auf einer unvergesslichen Reise.  \nBlack Angus – Geschmack in Perfektion:\n2+1-Gänge Menü \nEventöffner: Carpaccio vom Black Angus \nEventhighlight 1: Roast beefs vom Black Angus\n– Beilage: Kartoffel Chips mit Whiskey Räucher Dip\n– Beilage: Toasties mit Cheddarkäse überbacken \nEventhighlight 2: Wok Pfanne sweet sour \nGetränke: Es gibt eine geschmackvolle und erlesene Getränke und Weinauswahl \n  \nDatum und Uhrzeit: 09.08.2024\, Beginn 18:30 Uhr \nOrt: KüchenTreff Fritz\, Otterswanger Str. 7/8\, 88630 Pfullendorf \nPreis: 79 € p.P. \n  \nDas erwartet Sie:\n1. Lokale Delikatessen: Tauchen Sie ein in die Vielfalt und den Geschmack unserer lokalen Spezialitäten\, sorgfältig ausgewählt und liebevoll zubereitet. \n2. Live-Kochvorführungen: Erleben Sie hautnah\, wie unsere talentierten Küchenchefs vor Ihren Augen Gerichte aus verschiedenen Kulturen zubereiten. Lassen Sie sich von den raffinierten Techniken inspirieren. \n\nAnmeldung und weitere Informationen: \nDa die Teilnehmerzahl begrenzt ist\, bitten wir um eine rechtzeitige Anmeldung. Der Preis gilt pro Person und beinhaltet alle Zutaten\, Getränke. \n  \nHerzliche Grüße\, \nChristian Bulander\, Veranstalter
URL:https://feel-and-taste.de/event/back-in-black/
LOCATION:KüchenTreff Fritz\, Otterswanger Str. 7/8\, Pfullendorf\, 88630\, Deutschland
ATTACH;FMTTYPE=image/jpeg:https://feel-and-taste.de/wp-content/uploads/2024/06/RoastBeef.jpg
END:VEVENT
END:VCALENDAR